BEGIN:VCALENDAR
VERSION:2.0
CALSCALE:GREGORIAN
METHOD:PUBLISH
PRODID://CHRD//212649
BEGIN:VEVENT
DTSTAMP:20260422T140919
VTIMEZONE:America/New_York
DTSTART:20260425T150000Z
DTEND:20260425T170000Z
UID:212649
SUMMARY:Daytona Beach Chapter Meeting
LOCATION:Louie's Pizza House, 1347 Beville Rd, Daytona Beach, FL, 32119
DESCRIPTION:Daytona Beach Chapter Meeting\n\n04/25/26 11:00 AM EST\n - 04/25/26 01:00 PM EST\Location:\nLouie's Pizza House\n1347 Beville Rd\nDaytona Beach, FL 32119
X-ALT-DESC;FMTTYPE=text/html:Daytona Beach Chapter Meeting<br /><br />04/25/26 11:00 AM EST - 04/25/26 01:00 PM EST<br />Location:<br />Louie's Pizza House<br />1347 Beville Rd<br />Daytona Beach, FL 32119
PRIORITY:3
TRANSP:TRANSPARENT
BEGIN:VALARM
TRIGGER:-PT5M
ACTION:DISPLAY
DESCRIPTION:Reminder
END:VALARM
END:VEVENT
END:VCALENDAR
